BEGIN:VCALENDAR
VERSION:2.0
METHOD:PUBLISH
BEGIN:VEVENT
UID:southport-chamber-professionals-long-lunch@www.scoc.org.au
SUMMARY:Professionals Long Lunch
DESCRIPTION:Join us for the Professionals Long Lunch\, a signature end-of-year celebra
 tion and high-calibre networking event hosted SCOC.
LOCATION:Sheraton Grand Mirage Resort\, Gold Coast\, 71 Seaworld Drive\, Main Beach
 \, QLD 4217
DTSTAMP:20250924T142800Z
DTSTART:20251205T020000Z
DTEND:20251205T050000Z
END:VEVENT
END:VCALENDAR
