BEGIN:VCALENDAR
VERSION:2.0
METHOD:PUBLISH
BEGIN:VEVENT
UID:the-future-of-our-city-s-health-and-knowledge-precinct@www.scoc.org.au
SUMMARY:The future of our City?s Health & Knowledge Precinct
DESCRIPTION:Is the Gold Coast ready to become Australia's most advanced centre of Neur
 o Wellness & Neuro Rehabilitation?
DTSTAMP:20251020T004800Z
DTSTART:20251022T020000Z
DTEND:20251022T050000Z
END:VEVENT
END:VCALENDAR
